BEGIN:VCALENDAR
VERSION:2.0
PRODID:-//Michael Diehl Fingerstyle - ECPv6.5.1.5//NONSGML v1.0//EN
CALSCALE:GREGORIAN
METHOD:PUBLISH
X-WR-CALNAME:Michael Diehl Fingerstyle
X-ORIGINAL-URL:https://michaeldiehl-fingerstyle.de
X-WR-CALDESC:Veranstaltungen für Michael Diehl Fingerstyle
REFRESH-INTERVAL;VALUE=DURATION:PT1H
X-Robots-Tag:noindex
X-PUBLISHED-TTL:PT1H
BEGIN:VTIMEZONE
TZID:Europe/Berlin
BEGIN:DAYLIGHT
TZOFFSETFROM:+0100
TZOFFSETTO:+0200
TZNAME:CEST
DTSTART:20250330T010000
END:DAYLIGHT
BEGIN:STANDARD
TZOFFSETFROM:+0200
TZOFFSETTO:+0100
TZNAME:CET
DTSTART:20251026T010000
END:STANDARD
END:VTIMEZONE
BEGIN:VEVENT
DTSTART;TZID=Europe/Berlin:20250417T200000
DTEND;TZID=Europe/Berlin:20250417T220000
DTSTAMP:20260424T115652
CREATED:20240819T114240Z
LAST-MODIFIED:20240819T114240Z
UID:20056-1744920000-1744927200@michaeldiehl-fingerstyle.de
SUMMARY:Frankfurt Art Bar / Frankfurt am Main
DESCRIPTION:
URL:https://michaeldiehl-fingerstyle.de/event/frankfurt-art-bar-frankfurt-am-main-5/
ATTACH;FMTTYPE=image/jpeg:https://michaeldiehl-fingerstyle.de/wp-content/uploads/2021/12/DSC_9699.jpg
END:VEVENT
END:VCALENDAR