BEGIN:VCALENDAR
VERSION:2.0
PRODID:-//Michael Diehl Fingerstyle - ECPv6.5.1.5//NONSGML v1.0//EN
CALSCALE:GREGORIAN
METHOD:PUBLISH
X-WR-CALNAME:Michael Diehl Fingerstyle
X-ORIGINAL-URL:https://michaeldiehl-fingerstyle.de
X-WR-CALDESC:Veranstaltungen für Michael Diehl Fingerstyle
REFRESH-INTERVAL;VALUE=DURATION:PT1H
X-Robots-Tag:noindex
X-PUBLISHED-TTL:PT1H
BEGIN:VTIMEZONE
TZID:Europe/Berlin
BEGIN:DAYLIGHT
TZOFFSETFROM:+0100
TZOFFSETTO:+0200
TZNAME:CEST
DTSTART:20250330T010000
END:DAYLIGHT
BEGIN:STANDARD
TZOFFSETFROM:+0200
TZOFFSETTO:+0100
TZNAME:CET
DTSTART:20251026T010000
END:STANDARD
END:VTIMEZONE
BEGIN:VEVENT
DTSTART;TZID=Europe/Berlin:20250425T190000
DTEND;TZID=Europe/Berlin:20250425T210000
DTSTAMP:20260424T114702
CREATED:20250211T165144Z
LAST-MODIFIED:20250211T165144Z
UID:20117-1745607600-1745614800@michaeldiehl-fingerstyle.de
SUMMARY:Rathaus / Gießen
DESCRIPTION:
URL:https://michaeldiehl-fingerstyle.de/event/rathaus-giessen/
ATTACH;FMTTYPE=image/jpeg:https://michaeldiehl-fingerstyle.de/wp-content/uploads/2023/08/2inJoy-Presse1.jpg
END:VEVENT
BEGIN:VEVENT
DTSTART;TZID=Europe/Berlin:20250425T200000
DTEND;TZID=Europe/Berlin:20250425T220000
DTSTAMP:20260424T114702
CREATED:20250415T163131Z
LAST-MODIFIED:20250415T163131Z
UID:20153-1745611200-1745618400@michaeldiehl-fingerstyle.de
SUMMARY:Doppelkonzert mit Adam Rafferty / Jazz we can / Bad Marienberg
DESCRIPTION:
URL:https://michaeldiehl-fingerstyle.de/event/doppelkonzert-mit-adam-rafferty-jazz-we-can-bad-marienberg/
ATTACH;FMTTYPE=image/jpeg:https://michaeldiehl-fingerstyle.de/wp-content/uploads/2023/10/391625590_10220723716357390_6695460603996062991_n-2.jpg
END:VEVENT
END:VCALENDAR