BEGIN:VCALENDAR
VERSION:2.0
PRODID:-//Michael Diehl Fingerstyle - ECPv6.5.1.5//NONSGML v1.0//EN
CALSCALE:GREGORIAN
METHOD:PUBLISH
X-WR-CALNAME:Michael Diehl Fingerstyle
X-ORIGINAL-URL:https://michaeldiehl-fingerstyle.de
X-WR-CALDESC:Veranstaltungen für Michael Diehl Fingerstyle
REFRESH-INTERVAL;VALUE=DURATION:PT1H
X-Robots-Tag:noindex
X-PUBLISHED-TTL:PT1H
BEGIN:VTIMEZONE
TZID:Europe/Berlin
BEGIN:DAYLIGHT
TZOFFSETFROM:+0100
TZOFFSETTO:+0200
TZNAME:CEST
DTSTART:20250330T010000
END:DAYLIGHT
BEGIN:STANDARD
TZOFFSETFROM:+0200
TZOFFSETTO:+0100
TZNAME:CET
DTSTART:20251026T010000
END:STANDARD
END:VTIMEZONE
BEGIN:VEVENT
DTSTART;TZID=Europe/Berlin:20251008T200000
DTEND;TZID=Europe/Berlin:20251008T223000
DTSTAMP:20260421T205729
CREATED:20240819T114740Z
LAST-MODIFIED:20240819T114740Z
UID:20065-1759953600-1759962600@michaeldiehl-fingerstyle.de
SUMMARY:Doppelkonzert mit Adam Rafferty / Kino Casablanca / Ochsenfurt
DESCRIPTION:
URL:https://michaeldiehl-fingerstyle.de/event/doppelkonzert-mit-adam-rafferty-kino-casablanca-ochsenfurt/
ATTACH;FMTTYPE=image/jpeg:https://michaeldiehl-fingerstyle.de/wp-content/uploads/2023/10/391625590_10220723716357390_6695460603996062991_n-2.jpg
END:VEVENT
BEGIN:VEVENT
DTSTART;TZID=Europe/Berlin:20251024T190000
DTEND;TZID=Europe/Berlin:20251024T210000
DTSTAMP:20260421T205729
CREATED:20250731T113835Z
LAST-MODIFIED:20250731T113835Z
UID:20193-1761332400-1761339600@michaeldiehl-fingerstyle.de
SUMMARY:Cafe Noir / Siegen
DESCRIPTION:
URL:https://michaeldiehl-fingerstyle.de/event/cafe-noir-siegen/
ATTACH;FMTTYPE=image/jpeg:https://michaeldiehl-fingerstyle.de/wp-content/uploads/2021/12/DSC_9699.jpg
END:VEVENT
END:VCALENDAR